BEGIN:VCALENDAR
VERSION:2.0
PRODID:-//ChamberMaster//Event Calendar 2.0//EN
METHOD:PUBLISH
X-PUBLISHED-TTL:P3D
REFRESH-INTERVAL:P3D
CALSCALE:GREGORIAN
BEGIN:VEVENT
DTSTART:20250527T163000Z
DTEND:20250527T173000Z
X-MICROSOFT-CDO-ALLDAYEVENT:FALSE
SUMMARY:Summer Lunch Program
DESCRIPTION:Lunches available for all residents in Triad School District.\n\n\n\nFirst come first serve - once lunches are gone for the day they are done. No lunches on July 4th or 5th.\n\n\n\nPick up locations:\n\n\n\nTroy:\n\nMeadow Drive Park & Tri-Township Library\n\n\n\nSt. Jacob:\n\nPavilion at St. Jacob Elementary
X-ALT-DESC;FMTTYPE=text/html:Lunches available for all residents in Triad School District.<br />\n<br />\nFirst come first serve - once lunches are gone for the day they are done. No lunches on July 4th or 5th.<br />\n<br />\nPick up locations:<br />\n<br />\nTroy:<br />\nMeadow Drive Park &amp\; Tri-Township Library<br />\n<br />\nSt. Jacob:<br />\nPavilion at St. Jacob Elementary
LOCATION:Troy: Meadow Drive Park Meadow Dr Troy\, IL 62294 & Tri-Township Library 209 S Main St Troy\, IL 62294 St. Jacob: Pavilion at St. Jacob Elementary 305 Jacob St St Jacob\, IL 62281
UID:e.3456.10366
SEQUENCE:3
DTSTAMP:20260426T025928Z
URL:http://troymaryvillecocil.chambermaster.com/events/details/summer-lunch-program-10366
END:VEVENT

END:VCALENDAR
