BEGIN:VCALENDAR
VERSION:2.0
PRODID:-//ChamberMaster//Event Calendar 2.0//EN
METHOD:PUBLISH
X-PUBLISHED-TTL:P3D
REFRESH-INTERVAL:P3D
CALSCALE:GREGORIAN
BEGIN:VEVENT
DTSTART:20240522T163000Z
DTEND:20240522T180000Z
X-MICROSOFT-CDO-ALLDAYEVENT:FALSE
SUMMARY:Lunch & Learn
DESCRIPTION:Speaker: Dawn Mushill\, Troy/Maryville/St. Jacob/Marine Chamber of Commerce\n\nTopic: Culinary Boot Camp Experience / How to Get the MOST Out of Your Chamber Membership\n\n\n\nObjectives:\n\n- Learn about the variety of resources the Chamber provides\n\n- Hear a rundown of the new Menu of Services booklet\n\n- Walk away with an action plan that you can immediately put into place!\n\n\n\nWho Should Attend:\n\n- Marketing\n\n- Administration\n\n- Human Resources\n\n- Sales\n\n- CEO's\n\n\n\n*The Chamber will supply lunch for May's Lunch & Learn*\n\n(Firehouse subs)
X-ALT-DESC;FMTTYPE=text/html:<strong>Speaker:&nbsp\;</strong>Dawn Mushill\, Troy/Maryville/St. Jacob/Marine Chamber of Commerce<br />\nTopic:&nbsp\;Culinary Boot Camp Experience /&nbsp\;How to Get the MOST Out of Your Chamber Membership<br />\n<br />\n<strong>Objectives:</strong><br />\n- Learn about the variety of resources the Chamber provides<br />\n- Hear a rundown of the new Menu of Services booklet<br />\n- Walk away with an action plan that you can immediately put into place!<br />\n<br />\n<strong>Who Should Attend:</strong><br />\n- Marketing<br />\n- Administration<br />\n- Human Resources<br />\n- Sales<br />\n- CEO&#39\;s<br />\n<br />\n<span style="font-size:18px\;"><em><strong>*The Chamber will supply lunch for May&#39\;s Lunch &amp\; Learn*<br />\n(Firehouse subs)</strong></em></span>
LOCATION:Brightly Senior Living - Activity Room 200 Brightly Way Glen Carbon\, IL 62034
UID:e.3456.7638
SEQUENCE:3
DTSTAMP:20260419T200551Z
URL:http://troymaryvillecocil.chambermaster.com/events/details/lunch-learn-7638
END:VEVENT

END:VCALENDAR
